{"text_format":"3","workbook":"xlsx","n_sheets":5,"sheets":["Instructions","Customer Info","MS OrderForm","Zerk Program","Timber Program"],"not_rendered":{"images":10,"macros":1,"defined_names":10},"read":"whole","date_system":"1900"}

{"sheet":"Instructions","index":0,"n_rows":11,"n_cols":2,"rows_kept":11,"merged":[[0,0,0,1],[1,0,1,1]]}
["Using the Order Form"]
["Step by Step"]
[1,"Open S24 Order Form"]
[2,"When prompted click Enable Macros"]
[3,"Click the Customer Info tab (adjacent to instructions tab)"]
[4,"Enter your store information (yellow areas)"]
[5,"If the shipping address is the same as the billing address click the Copy to Ship to button. Otherwise  manually enter the ship to address in the ship to address box."]
[6,"Input your PO # and ship date for each ship month"]
[7,"Click the Order Form tab (adjacent to Customer Info tab) to open the order form."]
[8,"Enter your order using the appropriate column for each ship month."]
[10,"Once you have completed entering your order save the file as your store name.xlsm (ex. Outdoorshop.xlsm) - please save as a macro enabled workbook!"]

{"sheet":"Customer Info","index":1,"n_rows":56,"n_cols":2,"rows_kept":56,"merged":[[0,0,0,2],[1,0,1,2],[2,0,2,2],[3,0,3,1],[4,0,4,2],[5,1,5,2],[6,1,6,2],[7,1,7,2],[8,1,8,2],[9,1,9,2],[11,0,11,2],[12,1,12,2],[13,1,13,2],[14,1,14,2],[15,1,15,2],[16,1,16,2],[17,1,17,2],[20,1,20,2],[21,1,21,2],[22,1,22,2],[23,1,23,2],[24,1,24,2],[26,1,26,2],[27,1,27,2],[28,1,28,2],[29,1,29,2],[30,1,30,2],[32,1,32,2],[33,1,33,2],[34,1,34,2],[35,1,35,2],[36,1,36,2],[38,1,38,2],[39,1,39,2],[40,1,40,2],[41,1,41,2],[42,1,42,2],[44,1,44,2],[45,1,45,2],[46,1,46,2],[47,1,47,2],[48,1,48,2],[50,1,50,2],[51,1,51,2],[52,1,52,2],[53,1,53,2],[55,1,55,2]]}
["Mountainsmith Spring 2024 PRSN"]
["Valid on Shipments"]
["1/15/2024 - 6/30/2024"]
["Customer Name:"]
["Bill to address:"]
["Street/Box #"]
["Suite/Unit #"]
["City"]
["State"]
["Zip Code"]
[]
["Ship to address:"]
["Store Name"]
["Street Address"]
["Suite/Unit #"]
["City"]
["State"]
["Zip Code"]
[]
[{"$f":"'MS OrderForm'!F6","v":"January"}]
["PO # "]
["Ship Date"]
["Cancel date"]
["Order Total ",{"$f":"'MS OrderForm'!F3+'Zerk Program'!F3+'Timber Program'!F3","v":{"v":0,"d":"$0.00"}}]
["Terms"]
[{"$f":"'MS OrderForm'!G6","v":"February"}]
["PO # "]
["Ship Date"]
["Cancel date"]
["Order Total ",{"$f":"'MS OrderForm'!G3+'Zerk Program'!G3+'Timber Program'!G3","v":{"v":0,"d":"$0.00"}}]
["Terms"]
[{"$f":"'MS OrderForm'!H6","v":"March"}]
["PO # "]
["Ship Date"]
["Cancel date"]
["Order Total ",{"$f":"'MS OrderForm'!H3+'Zerk Program'!H3+'Timber Program'!H3","v":{"v":0,"d":"$0.00"}}]
["Terms"]
[{"$f":"'MS OrderForm'!I6","v":"April"}]
["PO # "]
["Ship Date"]
["Cancel date"]
["Order Total ",{"$f":"'MS OrderForm'!I3+'Zerk Program'!I3+'Timber Program'!I3","v":{"v":0,"d":"$0.00"}}]
["Terms"]
[{"$f":"'MS OrderForm'!J6","v":"May"}]
["PO # "]
["Ship Date"]
["Cancel date"]
["Order Total ",{"$f":"'MS OrderForm'!J3+'Zerk Program'!J3+'Timber Program'!J3","v":{"v":0,"d":"$0.00"}}]
["Terms"]
[{"$f":"'MS OrderForm'!K6","v":"June"}]
["PO # "]
["Ship Date"]
["Cancel date"]
["Order Total ",{"$f":"'MS OrderForm'!K3+'Zerk Program'!K3+'Timber Program'!K3","v":{"v":0,"d":"$0.00"}}]
[]
["Grand Total",{"$f":"'MS OrderForm'!L3+'Zerk Program'!L3+'Timber Program'!L3","v":0}]

{"sheet":"MS OrderForm","index":2,"n_rows":216,"n_cols":243,"rows_kept":216,"merged":[[0,5,0,11],[2,1,2,2]]}
[{"$nulls":5},"Order Summary",{"$nulls":6},0]
[{"$nulls":5},{"$f":"F6&\" SHIP\"","v":"January SHIP"},{"$f":"G6&\" SHIP\"","v":"February SHIP"},"March SHIP","April SHIP","May SHIP","June SHIP","TOTAL",0]
[{"$nulls":3},"$ Totals",null,{"$f":"F215","v":{"v":0,"d":"$0.00"}},{"v":0,"d":"$0.00"},{"v":0,"d":"$0.00"},{"v":0,"d":"$0.00"},{"v":0,"d":"$0.00"},{"v":0,"d":"$0.00"},{"v":0,"d":"$0.00"},0]
[{"$nulls":12},0]
[{"$nulls":12},0]
["ITEM DESCRIPTION","COLOR","WHOLESALE ","UPC","ITEM NUMBER","January","February","March","April","May","June","WHOLESALE",0]
["LUMBAR SERIES",{"$nulls":11},0]
["Day","Heritage Black",{"v":55,"d":"$55.00"},757894332495,"23-10020-01",{"$nulls":6},{"$f":"(F8*C8)+(G8*C8)+(H8*C8)+(I8*C8)+(J8*C8)+(K8*C8)","v":{"v":0,"d":"$0.00"}},{"$f":"IF(AND(ISBLANK(F8),ISBLANK(G8),ISBLANK(H8),ISBLANK(I8),ISBLANK(J8),ISBLANK(K8)),1,0)","v":1}]
["Day","Moon Mist Grey",{"v":55,"d":"$55.00"},757894332501,"23-10020-33",{"$nulls":6},{"$f":"(F9*C9)+(G9*C9)+(H9*C9)+(I9*C9)+(J9*C9)+(K9*C9)","v":{"v":0,"d":"$0.00"}},{"$f":"IF(AND(ISBLANK(F9),ISBLANK(G9),ISBLANK(H9),ISBLANK(I9),ISBLANK(J9),ISBLANK(K9)),1,0)","v":1}]
["Day","Coronet Blue",{"v":55,"d":"$55.00"},757894332518,"23-10020-27",{"$nulls":6},{"$f":"(F10*C10)+(G10*C10)+(H10*C10)+(I10*C10)+(J10*C10)+(K10*C10)","v":{"v":0,"d":"$0.00"}},{"$f":"IF(AND(ISBLANK(F10),ISBLANK(G10),ISBLANK(H10),ISBLANK(I10),ISBLANK(J10),ISBLANK(K10)),1,0)","v":1}]
["Day"," Olive Green",{"v":55,"d":"$55.00"},757894332525,"23-10020-29",{"$nulls":6},{"v":0,"d":"$0.00"},{"$f":"IF(AND(ISBLANK(F11),ISBLANK(G11),ISBLANK(H11),ISBLANK(I11),ISBLANK(J11),ISBLANK(K11)),1,0)","v":1}]
["Day","Cinnamon Red",{"v":55,"d":"$55.00"},757894332532,"23-10020-18",{"$nulls":6},{"v":0,"d":"$0.00"},1]
["Tour","Heritage Black ",{"v":49.5,"d":"$49.50"},757894332549,"23-10200-01",{"$nulls":6},{"v":0,"d":"$0.00"},1]
["Tour","Cascade Teal",{"v":49.5,"d":"$49.50"},757894332556,"23-10200-50",{"$nulls":6},{"$f":"(F14*C14)+(G14*C14)+(H14*C14)+(I14*C14)+(J14*C14)+(K14*C14)","v":{"v":0,"d":"$0.00"}},{"$f":"IF(AND(ISBLANK(F14),ISBLANK(G14),ISBLANK(H14),ISBLANK(I14),ISBLANK(J14),ISBLANK(K14)),1,0)","v":1}]
["Tour","Moon Mist Grey",{"v":49.5,"d":"$49.50"},757894332563,"23-10200-33",{"$nulls":6},{"v":0,"d":"$0.00"},1]
["Tour","Coronet Blue",{"v":49.5,"d":"$49.50"},757894332570,"23-10200-27",{"$nulls":6},{"v":0,"d":"$0.00"},1]
["Tour","Olive Green",{"v":49.5,"d":"$49.50"},757894332587,"23-10200-29",{"$nulls":6},{"v":0,"d":"$0.00"},1]
["Tour","Cinnamon Red",{"v":49.5,"d":"$49.50"},757894332594,"23-10200-18",{"$nulls":6},{"v":0,"d":"$0.00"},1]
["Epic","Heritage Black ",{"v":41.25,"d":"$41.25"},757894332600,"23-10300-01",{"$nulls":6},{"v":0,"d":"$0.00"},1]
["Epic","Cascade Teal",{"v":41.25,"d":"$41.25"},757894332617,"23-10300-50",{"$nulls":6},{"v":0,"d":"$0.00"},1]
["Epic","Moon Mist Grey",{"v":41.25,"d":"$41.25"},757894332624,"23-10300-33",{"$nulls":6},{"v":0,"d":"$0.00"},1]
["Epic","Coronet Blue",{"v":41.25,"d":"$41.25"},757894332631,"23-10300-27",{"$nulls":6},{"v":0,"d":"$0.00"},1]
["Epic","Olive Green",{"v":41.25,"d":"$41.25"},757894332648,"23-10300-29",{"$nulls":6},{"v":0,"d":"$0.00"},1]
["Epic","Cinnamon Red",{"v":41.25,"d":"$41.25"},757894332655,"23-10300-18",{"$nulls":6},{"v":0,"d":"$0.00"},1]
["Sprint","Heritage Black ",{"v":27.5,"d":"$27.50"},757894332662,"23-10400-01",{"$nulls":6},{"$f":"(F25*C25)+(G25*C25)+(H25*C25)+(I25*C25)+(J25*C25)+(K25*C25)","v":{"v":0,"d":"$0.00"}},{"$f":"IF(AND(ISBLANK(F25),ISBLANK(G25),ISBLANK(H25),ISBLANK(I25),ISBLANK(J25),ISBLANK(K25)),1,0)","v":1}]
["Sprint","Cascade Teal",{"v":27.5,"d":"$27.50"},757894332679,"23-10400-50",{"$nulls":6},{"v":0,"d":"$0.00"},1]
["Sprint","Moon Mist Grey",{"v":27.5,"d":"$27.50"},757894332686,"23-10400-33",{"$nulls":6},{"v":0,"d":"$0.00"},1]
["Sprint","Coronet Blue",{"v":27.5,"d":"$27.50"},757894332693,"23-10400-27",{"$nulls":6},{"v":0,"d":"$0.00"},1]
["Sprint"," Olive Green",{"v":27.5,"d":"$27.50"},757894332709,"23-10400-29",{"$nulls":6},{"v":0,"d":"$0.00"},1]
["Sprint","Cinnamon Red",{"v":27.5,"d":"$27.50"},757894332716,"23-10400-18",{"$nulls":6},{"$f":"(F30*C30)+(G30*C30)+(H30*C30)+(I30*C30)+(J30*C30)+(K30*C30)","v":{"v":0,"d":"$0.00"}},{"$f":"IF(AND(ISBLANK(F30),ISBLANK(G30),ISBLANK(H30),ISBLANK(I30),ISBLANK(J30),ISBLANK(K30)),1,0)","v":1}]
["Drift","Heritage Black  ",{"v":30,"d":"$30.00"},757894332723,"23-10160-01",{"$nulls":6},{"v":0,"d":"$0.00"},1]
["Drift","Cascade Teal",{"v":30,"d":"$30.00"},757894332730,"23-10160-50",{"$nulls":6},{"v":0,"d":"$0.00"},1]
["Drift","Moon Mist Grey",{"v":30,"d":"$30.00"},757894332747,"23-10160-33",{"$nulls":6},{"$f":"(F33*C33)+(G33*C33)+(H33*C33)+(I33*C33)+(J33*C33)+(K33*C33)","v":{"v":0,"d":"$0.00"}},{"$f":"IF(AND(ISBLANK(F33),ISBLANK(G33),ISBLANK(H33),ISBLANK(I33),ISBLANK(J33),ISBLANK(K33)),1,0)","v":1}]
["Drift","Coronet Blue",{"v":30,"d":"$30.00"},757894332754,"23-10160-27",{"$nulls":6},{"v":0,"d":"$0.00"},1]
["Drift","Olive Green",{"v":30,"d":"$30.00"},757894332761,"23-10160-29",{"$nulls":6},{"v":0,"d":"$0.00"},1]
["Drift","Cinnamon Red",{"v":30,"d":"$30.00"},757894332778,"23-10160-18",{"$nulls":6},{"v":0,"d":"$0.00"},1]
["Vibe","Heritage Black  ",{"v":19.25,"d":"$19.25"},757894332785,"23-10220-01",{"$nulls":6},{"v":0,"d":"$0.00"},1]
["Vibe","Cascade Teal",{"v":19.25,"d":"$19.25"},757894332792,"23-10220-50",{"$nulls":6},{"v":0,"d":"$0.00"},1]
["Vibe","Moon Mist Grey",{"v":19.25,"d":"$19.25"},757894332808,"23-10220-33",{"$nulls":6},{"$f":"(F39*C39)+(G39*C39)+(H39*C39)+(I39*C39)+(J39*C39)+(K39*C39)","v":{"v":0,"d":"$0.00"}},{"$f":"IF(AND(ISBLANK(F39),ISBLANK(G39),ISBLANK(H39),ISBLANK(I39),ISBLANK(J39),ISBLANK(K39)),1,0)","v":1}]
["Vibe","Coronet Blue",{"v":19.25,"d":"$19.25"},757894332815,"23-10220-27",{"$nulls":6},{"$f":"(F40*C40)+(G40*C40)+(H40*C40)+(I40*C40)+(J40*C40)+(K40*C40)","v":{"v":0,"d":"$0.00"}},{"$f":"IF(AND(ISBLANK(F40),ISBLANK(G40),ISBLANK(H40),ISBLANK(I40),ISBLANK(J40),ISBLANK(K40)),1,0)","v":1}]
["Vibe","Olive Green",{"v":19.25,"d":"$19.25"},757894332822,"23-10220-29",{"$nulls":6},{"v":0,"d":"$0.00"},1]
["Vibe","Cinnamon Red",{"v":19.25,"d":"$19.25"},757894332839,"23-10220-18",{"$nulls":6},{"v":0,"d":"$0.00"},1]
["ZERK- New","Black",{"v":36,"d":"$36.00"},757894333188,"24-50641-01",{"$nulls":6},{"$f":"(F43*C43)+(G43*C43)+(H43*C43)+(I43*C43)+(J43*C43)+(K43*C43)","v":{"v":0,"d":"$0.00"}},{"$f":"IF(AND(ISBLANK(F43),ISBLANK(G43),ISBLANK(H43),ISBLANK(I43),ISBLANK(J43),ISBLANK(K43)),1,0)","v":1}]
["ZERK- New","Cyan Blue",{"v":36,"d":"$36.00"},757894333195,"24-50641-03",{"$nulls":6},{"$f":"(F44*C44)+(G44*C44)+(H44*C44)+(I44*C44)+(J44*C44)+(K44*C44)","v":{"v":0,"d":"$0.00"}},{"$f":"IF(AND(ISBLANK(F44),ISBLANK(G44),ISBLANK(H44),ISBLANK(I44),ISBLANK(J44),ISBLANK(K44)),1,0)","v":1}]
["Timber","Black",{"v":33,"d":"$33.00"},757894333041,"23-10800-01",{"$nulls":6},{"v":0,"d":"$0.00"},1]
["Timber","Coyote Brown",{"v":33,"d":"$33.00"},757894333058,"23-10800-60",{"$nulls":6},{"$f":"(F46*C46)+(G46*C46)+(H46*C46)+(I46*C46)+(J46*C46)+(K46*C46)","v":{"v":0,"d":"$0.00"}},{"$f":"IF(AND(ISBLANK(F46),ISBLANK(G46),ISBLANK(H46),ISBLANK(I46),ISBLANK(J46),ISBLANK(K46)),1,0)","v":1}]
["Dry Kick","Moss Green",{"v":27.5,"d":"$27.50"},757894328788,"19-10042-28",{"$nulls":6},{"$f":"(F47*C47)+(G47*C47)+(H47*C47)+(I47*C47)+(J47*C47)+(K47*C47)","v":{"v":0,"d":"$0.00"}},1]
["Sidekick Small- Updated","Heritage Black",{"v":15.5,"d":"$15.50"},757894333409,"24-10265-01",{"$nulls":6},{"$f":"(F48*C48)+(G48*C48)+(H48*C48)+(I48*C48)+(J48*C48)+(K48*C48)","v":{"v":0,"d":"$0.00"}},1]
["Sidekick Medium- Updated","Heritage Black",{"v":16.5,"d":"$16.50"},757894333416,"24-10270-01",{"$nulls":6},{"$f":"(F49*C49)+(G49*C49)+(H49*C49)+(I49*C49)+(J49*C49)+(K49*C49)","v":{"v":0,"d":"$0.00"}},1]
["Sidekick Small- Updated","Coyote Brown",{"v":15.5,"d":"$15.50"},757894333423,"24-10265-60",{"$nulls":6},{"$f":"(F50*C50)+(G50*C50)+(H50*C50)+(I50*C50)+(J50*C50)+(K50*C50)","v":{"v":0,"d":"$0.00"}},{"$f":"IF(AND(ISBLANK(F50),ISBLANK(G50),ISBLANK(H50),ISBLANK(I50),ISBLANK(J50),ISBLANK(K50)),1,0)","v":1}]
["Sidekick Medium- Updated","Coyote Brown",{"v":16.5,"d":"$16.50"},757894333430,"24-10270-60",{"$nulls":6},{"$f":"(F51*C51)+(G51*C51)+(H51*C51)+(I51*C51)+(J51*C51)+(K51*C51)","v":{"v":0,"d":"$0.00"}},1]
["Day Rain Cover","Heritage Black",{"v":10,"d":"$10.00"},757894328016,"09-90015-01",{"$nulls":6},{"v":0,"d":"$0.00"},1]
["Tour Rain Cover","Heritage Black",{"v":9.5,"d":"$9.50"},757894328023,"09-90016-01",{"$nulls":6},{"v":0,"d":"$0.00"},{"$f":"IF(AND(ISBLANK(F53),ISBLANK(G53),ISBLANK(H53),ISBLANK(I53),ISBLANK(J53),ISBLANK(K53)),1,0)","v":1}]
["Strapettes","Heritage Black ",{"v":14,"d":"$14.00"},757894990657,"99-90004-01",{"$nulls":6},{"$f":"(F54*C54)+(G54*C54)+(H54*C54)+(I54*C54)+(J54*C54)+(K54*C54)","v":{"v":0,"d":"$0.00"}},1]
["Knockabout","Heritage Black  ",{"v":22,"d":"$22.00"},757894332846,"23-10190-01",{"$nulls":6},{"v":0,"d":"$0.00"},1]
["Knockabout","Black Plum",{"v":22,"d":"$22.00"},757894332853,"23-10190-62",{"$nulls":6},{"v":0,"d":"$0.00"},1]
["Knockabout","Meadow Green",{"v":22,"d":"$22.00"},757894332860,"23-10190-13",{"$nulls":6},{"$f":"(F57*C57)+(G57*C57)+(H57*C57)+(I57*C57)+(J57*C57)+(K57*C57)","v":{"v":0,"d":"$0.00"}},{"$f":"IF(AND(ISBLANK(F57),ISBLANK(G57),ISBLANK(H57),ISBLANK(I57),ISBLANK(J57),ISBLANK(K57)),1,0)","v":1}]
["Knockabout","Cyan Blue",{"v":22,"d":"$22.00"},757894332877,"23-10190-15",{"$nulls":6},{"$f":"(F58*C58)+(G58*C58)+(H58*C58)+(I58*C58)+(J58*C58)+(K58*C58)","v":{"v":0,"d":"$0.00"}},{"$f":"IF(AND(ISBLANK(F58),ISBLANK(G58),ISBLANK(H58),ISBLANK(I58),ISBLANK(J58),ISBLANK(K58)),1,0)","v":1}]
["Knockabout","Maroon Red",{"v":22,"d":"$22.00"},757894332884,"23-10190-49",{"$nulls":6},{"v":0,"d":"$0.00"},1]
["Groove","Heritage Black  ",{"v":12.75,"d":"$12.75"},757894332891,"23-10500-01",{"$nulls":6},{"$f":"(F60*C60)+(G60*C60)+(H60*C60)+(I60*C60)+(J60*C60)+(K60*C60)","v":{"v":0,"d":"$0.00"}},{"$f":"IF(AND(ISBLANK(F60),ISBLANK(G60),ISBLANK(H60),ISBLANK(I60),ISBLANK(J60),ISBLANK(K60)),1,0)","v":1}]
["Groove","Black Plum",{"v":12.75,"d":"$12.75"},757894332907,"23-10500-62",{"$nulls":6},{"v":0,"d":"$0.00"},1]
["Groove","Meadow Green",{"v":12.75,"d":"$12.75"},757894332914,"23-10500-13",{"$nulls":6},{"v":0,"d":"$0.00"},1]
["Groove","Cyan Blue",{"v":12.75,"d":"$12.75"},757894332921,"23-10500-15",{"$nulls":6},{"v":0,"d":"$0.00"},1]
["Groove","Maroon Red",{"v":12.75,"d":"$12.75"},757894332938,"23-10500-49",{"$nulls":6},{"v":0,"d":"$0.00"},1]
["Flow","Heritage Black  ",{"v":12.75,"d":"$12.75"},757894332945,"23-10600-01",{"$nulls":6},{"v":0,"d":"$0.00"},1]
["Flow","Black Plum",{"v":12.75,"d":"$12.75"},757894332952,"23-10600-62",{"$nulls":6},{"v":0,"d":"$0.00"},1]
["Flow","Meadow Green",{"v":12.75,"d":"$12.75"},757894332969,"23-10600-13",{"$nulls":6},{"v":0,"d":"$0.00"},1]
["Flow","Cyan Blue",{"v":12.75,"d":"$12.75"},757894332976,"23-10600-15",{"$nulls":6},{"v":0,"d":"$0.00"},1]
["Flow","Maroon Red",{"v":12.75,"d":"$12.75"},757894332983,"23-10600-49",{"$nulls":6},{"v":0,"d":"$0.00"},1]
["Swoop","Heritage Black  ",{"v":13.75,"d":"$13.75"},757894332990,"23-10700-01",{"$nulls":6},{"v":0,"d":"$0.00"},1]
["Swoop","Black Plum",{"v":13.75,"d":"$13.75"},757894333003,"23-10700-62",{"$nulls":6},{"v":0,"d":"$0.00"},1]
["Swoop","Meadow Green",{"v":13.75,"d":"$13.75"},757894333010,"23-10700-13",{"$nulls":6},{"v":0,"d":"$0.00"},1]
["Swoop","Cyan Blue",{"v":13.75,"d":"$13.75"},757894333027,"23-10700-15",{"$nulls":6},{"v":0,"d":"$0.00"},1]
["Swoop","Maroon Red",{"v":13.75,"d":"$13.75"},757894333034,"23-10700-49",{"$nulls":6},{"v":0,"d":"$0.00"},1]
["Trippin Fanny","Heritage Black",{"v":16.5,"d":"$16.50"},757894331511,"21-10301-01",{"$nulls":6},{"$f":"(F75*C75)+(G75*C75)+(H75*C75)+(I75*C75)+(J75*C75)+(K75*C75)","v":{"v":0,"d":"$0.00"}},{"$f":"IF(AND(ISBLANK(F75),ISBLANK(G75),ISBLANK(H75),ISBLANK(I75),ISBLANK(J75),ISBLANK(K75)),1,0)","v":1}]
["Trippin Fanny","Heritage Purple",{"v":16.5,"d":"$16.50"},757894331528,"21-10301-20",{"$nulls":6},{"v":0,"d":"$0.00"},1]
["Trippin Fanny","Classic Red",{"v":16.5,"d":"$16.50"},757894331535,"21-10301-31",{"$nulls":6},{"v":0,"d":"$0.00"},1]
["Trippin Fanny","Salmon",{"v":16.5,"d":"$16.50"},757894331542,"21-10301-75",{"$nulls":6},{"v":0,"d":"$0.00"},1]
["Trippin Fanny","Mint",{"v":16.5,"d":"$16.50"},757894331559,"21-10301-21",{"$nulls":6},{"v":0,"d":"$0.00"},1]
["Trippin Lil'","Heritage Black",{"v":13.75,"d":"$13.75"},757894331177,"20-10302-01",{"$nulls":6},{"v":0,"d":"$0.00"},1]
["Trippin Lil'","Heritage Purple",{"v":13.75,"d":"$13.75"},757894331184,"20-10302-20",{"$nulls":6},{"v":0,"d":"$0.00"},1]
["Trippin Lil'","Heritage Red",{"v":13.75,"d":"$13.75"},757894331191,"20-10302-31",{"$nulls":6},{"v":0,"d":"$0.00"},1]
["Trippin Lil'","Salmon",{"v":13.75,"d":"$13.75"},757894331207,"20-10302-75",{"$nulls":6},{"v":0,"d":"$0.00"},1]
["Trippin Lil'","Mint",{"v":13.75,"d":"$13.75"},757894331214,"20-10302-21",{"$nulls":6},{"$f":"(F84*C84)+(G84*C84)+(H84*C84)+(I84*C84)+(J84*C84)+(K84*C84)","v":{"v":0,"d":"$0.00"}},{"$f":"IF(AND(ISBLANK(F84),ISBLANK(G84),ISBLANK(H84),ISBLANK(I84),ISBLANK(J84),ISBLANK(K84)),1,0)","v":1}]
["LUMBAR SERIES SUBTOTAL",{"$nulls":4},{"$f":"SUMPRODUCT($C$8:$C$84,F8:F84)","v":{"v":0,"d":"$0.00"}},{"v":0,"d":"$0.00"},{"v":0,"d":"$0.00"},{"v":0,"d":"$0.00"},{"v":0,"d":"$0.00"},{"v":0,"d":"$0.00"},{"$f":"SUM(L8:L84)","v":{"v":0,"d":"$0.00"}},0]
["BACKPACKS",{"$nulls":11},0]
["Zerk 40- Updated","Black",{"v":122,"d":"$122.00"},757894333140,"24-50441-01",{"$nulls":6},{"$f":"(F87*C87)+(G87*C87)+(H87*C87)+(I87*C87)+(J87*C87)+(K87*C87)","v":{"v":0,"d":"$0.00"}},{"$f":"IF(AND(ISBLANK(F87),ISBLANK(G87),ISBLANK(H87),ISBLANK(I87),ISBLANK(J87),ISBLANK(K87)),1,0)","v":1}]
["Zerk 40- Updated","Cyan Blue",{"v":122,"d":"$122.00"},757894333157,"24-50441-03",{"$nulls":6},{"v":0,"d":"$0.00"},1]
["Zerk 25- New","Black",{"v":110,"d":"$110.00"},757894333164,"24-50541-01",{"$nulls":6},{"v":0,"d":"$0.00"},1]
["Zerk 25- New","Cyan Blue",{"v":110,"d":"$110.00"},757894333171,"24-50541-03",{"$nulls":6},{"v":0,"d":"$0.00"},1]
["Apex 80 ","Phantom",{"v":138,"d":"$138.00"},757894331504,"22-50180-44",{"$nulls":6},{"$f":"(F91*C91)+(G91*C91)+(H91*C91)+(I91*C91)+(J91*C91)+(K91*C91)","v":{"v":0,"d":"$0.00"}},{"$f":"IF(AND(ISBLANK(F91),ISBLANK(G91),ISBLANK(H91),ISBLANK(I91),ISBLANK(J91),ISBLANK(K91)),1,0)","v":1}]
["Apex 60 ","Phantom",{"v":122,"d":"$122.00"},757894331406,"22-50160-44",{"$nulls":6},{"v":0,"d":"$0.00"},1]
["Apex 60 ","Smoke Blue",{"v":122,"d":"$122.00"},757894331498,"22-50160-74",{"$nulls":6},{"v":0,"d":"$0.00"},1]
["Apex 25","Phantom",{"v":71,"d":"$71.00"},"757894331870","22-50161-44",{"$nulls":6},{"v":0,"d":"$0.00"},1]
["Apex 25 ","Smoke Blue",{"v":71,"d":"$71.00"},"757894331887","22-50161-74",{"$nulls":6},{"v":0,"d":"$0.00"},1]
["Apex 20 ","Phantom",{"v":61,"d":"$61.00"},757894331894,"22-50162-44",{"$nulls":6},{"v":0,"d":"$0.00"},1]
["Apex 20","Smoke Blue",{"v":61,"d":"$61.00"},"757894331900","22-50162-74",{"$nulls":6},{"v":0,"d":"$0.00"},1]
["Scream 55","Phantom",{"v":88,"d":"$88.00"},757894331368,"22-50240-44",{"$nulls":6},{"v":0,"d":"$0.00"},1]
["Scream 55","Smoke Blue",{"v":88,"d":"$88.00"},757894331696,"22-50240-74",{"$nulls":6},{"v":0,"d":"$0.00"},1]
["Scream 30","Phantom",{"v":66,"d":"$66.00"},"757894331832","22-50250-44",{"$nulls":6},{"$f":"(F100*C100)+(G100*C100)+(H100*C100)+(I100*C100)+(J100*C100)+(K100*C100)","v":{"v":0,"d":"$0.00"}},1]
["Scream 30","Smoke Blue",{"v":66,"d":"$66.00"},757894331849,"22-50250-74",{"$nulls":6},{"v":0,"d":"$0.00"},1]
["Scream 12 ","Phantom",{"v":49.5,"d":"$49.50"},757894331917,"22-50251-44",{"$nulls":6},{"v":0,"d":"$0.00"},1]
["Scream 12 ","Smoke Blue",{"v":49.5,"d":"$49.50"},757894331924,"22-50251-74",{"$nulls":6},{"v":0,"d":"$0.00"},1]
["Mayhem 45","Heitage Black",{"v":99,"d":"$99.00"},757894328542,"19-50301-01",{"$nulls":6},{"$f":"(F104*C104)+(G104*C104)+(H104*C104)+(I104*C104)+(J104*C104)+(K104*C104)","v":{"v":0,"d":"$0.00"}},{"$f":"IF(AND(ISBLANK(F104),ISBLANK(G104),ISBLANK(H104),ISBLANK(I104),ISBLANK(J104),ISBLANK(K104)),1,0)","v":1}]
["Mayhem 30","Heritage Black",{"v":88,"d":"$88.00"},757894328566,"19-50311-01",{"$nulls":6},{"v":0,"d":"$0.00"},1]
["Adventure Office","Heritage Black ",{"v":44,"d":"$44.00"},757894327590,"18-75311-01",{"$nulls":6},{"$f":"(F106*C106)+(G106*C106)+(H106*C106)+(I106*C106)+(J106*C106)+(K106*C106)","v":{"v":0,"d":"$0.00"}},{"$f":"IF(AND(ISBLANK(F106),ISBLANK(G106),ISBLANK(H106),ISBLANK(I106),ISBLANK(J106),ISBLANK(K106)),1,0)","v":1}]
["Adventure Office Small","Heritage Black ",{"v":33,"d":"$33.00"},757894325510,"16-75300-01",{"$nulls":6},{"$f":"(F107*C107)+(G107*C107)+(H107*C107)+(I107*C107)+(J107*C107)+(K107*C107)","v":{"v":0,"d":"$0.00"}},{"$f":"IF(AND(ISBLANK(F107),ISBLANK(G107),ISBLANK(H107),ISBLANK(I107),ISBLANK(J107),ISBLANK(K107)),1,0)","v":1}]
["Divide","Blackout",{"v":49.5,"d":"$49.50"},757894331351,"21-75350-01",{"$nulls":6},{"$f":"(F108*C108)+(G108*C108)+(H108*C108)+(I108*C108)+(J108*C108)+(K108*C108)","v":{"v":0,"d":"$0.00"}},{"$f":"IF(AND(ISBLANK(F108),ISBLANK(G108),ISBLANK(H108),ISBLANK(I108),ISBLANK(J108),ISBLANK(K108)),1,0)","v":1}]
["Divide","Basil",{"v":49.5,"d":"$49.50"},757894331719,"21-75350-77",{"$nulls":6},{"v":0,"d":"$0.00"},{"$f":"IF(AND(ISBLANK(F109),ISBLANK(G109),ISBLANK(H109),ISBLANK(I109),ISBLANK(J109),ISBLANK(K109)),1,0)","v":1}]
["Transit Daypack- New","Heritage Black ",{"v":65.5,"d":"$65.50"},757894333225,"24-75220-01",{"$nulls":6},{"v":0,"d":"$0.00"},{"$f":"IF(AND(ISBLANK(F110),ISBLANK(G110),ISBLANK(H110),ISBLANK(I110),ISBLANK(J110),ISBLANK(K110)),1,0)","v":1}]
["Transit Daypack- New","Maroon Red",{"v":65.5,"d":"$65.50"},757894333232,"24-75220-49",{"$nulls":6},{"v":0,"d":"$0.00"},1]
["Trippin Pack","Heritage Black",{"v":33,"d":"$33.00"},757894331603,"21-10401-01",{"$nulls":6},{"v":0,"d":"$0.00"},{"$f":"IF(AND(ISBLANK(F112),ISBLANK(G112),ISBLANK(H112),ISBLANK(I112),ISBLANK(J112),ISBLANK(K112)),1,0)","v":1}]
["Trippin Pack","Heritage Purple",{"v":33,"d":"$33.00"},"757894331610","21-10401-20",{"$nulls":6},{"v":0,"d":"$0.00"},{"$f":"IF(AND(ISBLANK(F113),ISBLANK(G113),ISBLANK(H113),ISBLANK(I113),ISBLANK(J113),ISBLANK(K113)),1,0)","v":1}]
["Trippin Pack","Classic Red",{"v":33,"d":"$33.00"},"757894331627","21-10401-31",{"$nulls":6},{"$f":"(F114*C114)+(G114*C114)+(H114*C114)+(I114*C114)+(J114*C114)+(K114*C114)","v":{"v":0,"d":"$0.00"}},{"$f":"IF(AND(ISBLANK(F114),ISBLANK(G114),ISBLANK(H114),ISBLANK(I114),ISBLANK(J114),ISBLANK(K114)),1,0)","v":1}]
["Trippin Pack","Salmon",{"v":33,"d":"$33.00"},"757894331634","21-10401-75",{"$nulls":6},{"v":0,"d":"$0.00"},1]
["Trippin Pack","Mint",{"v":33,"d":"$33.00"},"757894331641","21-10401-21",{"$nulls":6},{"$f":"(F116*C116)+(G116*C116)+(H116*C116)+(I116*C116)+(J116*C116)+(K116*C116)","v":{"v":0,"d":"$0.00"}},{"$f":"IF(AND(ISBLANK(F116),ISBLANK(G116),ISBLANK(H116),ISBLANK(I116),ISBLANK(J116),ISBLANK(K116)),1,0)","v":1}]
["Trippin Pouch","Heritage Black",{"v":13.75,"d":"$13.75"},"757894331771","21-10201-01",{"$nulls":6},{"$f":"(F117*C117)+(G117*C117)+(H117*C117)+(I117*C117)+(J117*C117)+(K117*C117)","v":{"v":0,"d":"$0.00"}},{"$f":"IF(AND(ISBLANK(F117),ISBLANK(G117),ISBLANK(H117),ISBLANK(I117),ISBLANK(J117),ISBLANK(K117)),1,0)","v":1}]
["Trippin Pouch","Heritage Purple",{"v":13.75,"d":"$13.75"},"757894331788","21-10201-20",{"$nulls":6},{"$f":"(F118*C118)+(G118*C118)+(H118*C118)+(I118*C118)+(J118*C118)+(K118*C118)","v":{"v":0,"d":"$0.00"}},{"$f":"IF(AND(ISBLANK(F118),ISBLANK(G118),ISBLANK(H118),ISBLANK(I118),ISBLANK(J118),ISBLANK(K118)),1,0)","v":1}]
["Trippin Pouch","Classic Red",{"v":13.75,"d":"$13.75"},"757894331795","21-10201-31",{"$nulls":6},{"$f":"(F119*C119)+(G119*C119)+(H119*C119)+(I119*C119)+(J119*C119)+(K119*C119)","v":{"v":0,"d":"$0.00"}},{"$f":"IF(AND(ISBLANK(F119),ISBLANK(G119),ISBLANK(H119),ISBLANK(I119),ISBLANK(J119),ISBLANK(K119)),1,0)","v":1}]
["Trippin Pouch","Salmon",{"v":13.75,"d":"$13.75"},"757894331801","21-10201-75",{"$nulls":6},{"v":0,"d":"$0.00"},1]
["Trippin Pouch","Mint",{"v":13.75,"d":"$13.75"},"757894331818","21-10201-21",{"$nulls":6},{"$f":"(F121*C121)+(G121*C121)+(H121*C121)+(I121*C121)+(J121*C121)+(K121*C121)","v":{"v":0,"d":"$0.00"}},{"$f":"IF(AND(ISBLANK(F121),ISBLANK(G121),ISBLANK(H121),ISBLANK(I121),ISBLANK(J121),ISBLANK(K121)),1,0)","v":1}]
["Rain Cover Extra Small","Black",{"v":10,"d":"$10.00"},757894314811,"07-90010-01",{"$nulls":6},{"$f":"(F122*C122)+(G122*C122)+(H122*C122)+(I122*C122)+(J122*C122)+(K122*C122)","v":{"v":0,"d":"$0.00"}},{"$f":"IF(AND(ISBLANK(F122),ISBLANK(G122),ISBLANK(H122),ISBLANK(I122),ISBLANK(J122),ISBLANK(K122)),1,0)","v":1}]
["Rain Cover Small","Black",{"v":11,"d":"$11.00"},757894990725,"07-90011-01",{"$nulls":6},{"$f":"(F123*C123)+(G123*C123)+(H123*C123)+(I123*C123)+(J123*C123)+(K123*C123)","v":{"v":0,"d":"$0.00"}},{"$f":"IF(AND(ISBLANK(F123),ISBLANK(G123),ISBLANK(H123),ISBLANK(I123),ISBLANK(J123),ISBLANK(K123)),1,0)","v":1}]
["Rain Cover Medium","Black",{"v":12,"d":"$12.00"},757894990732,"07-90012-01",{"$nulls":6},{"v":0,"d":"$0.00"},1]
["Rain Cover Large","Black",{"v":13,"d":"$13.00"},757894990749,"07-90013-01",{"$nulls":6},{"v":0,"d":"$0.00"},1]
["BACKPACKS SUBTOTAL",{"$nulls":4},{"$f":"SUMPRODUCT($C$87:$C$125,F87:F125)","v":{"v":0,"d":"$0.00"}},{"v":0,"d":"$0.00"},{"v":0,"d":"$0.00"},{"v":0,"d":"$0.00"},{"v":0,"d":"$0.00"},{"v":0,"d":"$0.00"},{"$f":"SUM(L87:L125)","v":{"v":0,"d":"$0.00"}},0]
["SLINGS",{"$nulls":11},0]
["Timber Sling- New","Heritage Black",{"v":49.5,"d":"$49.50"},757894333263,"24-70800-01",{"$nulls":6},{"$f":"(F128*C128)+(G128*C128)+(H128*C128)+(I128*C128)+(J128*C128)+(K128*C128)","v":{"v":0,"d":"$0.00"}},{"$f":"IF(AND(ISBLANK(F128),ISBLANK(G128),ISBLANK(H128),ISBLANK(I128),ISBLANK(J128),ISBLANK(K128)),1,0)","v":1}]
["Timber Sling- New","Coyote Brown",{"v":49.5,"d":"$49.50"},757894333270,"24-70800-60",{"$nulls":6},{"v":0,"d":"$0.00"},1]
["Passage Sling- New","Heritage Black",{"v":38.75,"d":"$38.75"},757894333249,"24-70900-01",{"$nulls":6},{"v":0,"d":"$0.00"},1]
["Passage Sling- New","Maroon Red",{"v":38.75,"d":"$38.75"},757894333256,"24-70900-49",{"$nulls":6},{"v":0,"d":"$0.00"},1]
["SLINGS SUBTOTAL",{"$nulls":4},{"$f":"SUMPRODUCT($C$128:$C$131,F128:F131)","v":{"v":0,"d":"$0.00"}},{"v":0,"d":"$0.00"},{"v":0,"d":"$0.00"},{"v":0,"d":"$0.00"},{"v":0,"d":"$0.00"},{"v":0,"d":"$0.00"},{"$f":"SUM(L128:L131)","v":{"v":0,"d":"$0.00"}},{"$f":"IF(AND(ISBLANK(F132),ISBLANK(G132),ISBLANK(H132),ISBLANK(I132),ISBLANK(J132),ISBLANK(K132)),1,0)","v":0}]
["COOLERS/ACCESSORIES",{"$nulls":11},0,{"$nulls":18},"Quilted Zip-Top Tote, XS"," Green Mist ",{"v":12.5,"d":"12.50"},"07-70135-13",{"$nulls":12},"Quilted Zip-Top Tote, XS"," Green Mist ",{"v":12.5,"d":"12.50"},"07-70135-13",{"$nulls":12},"Quilted Zip-Top Tote, XS"," Green Mist ",{"v":12.5,"d":"12.50"},"07-70135-13",{"$nulls":12},"Quilted Zip-Top Tote, XS"," Green Mist ",{"v":12.5,"d":"12.50"},"07-70135-13",{"$nulls":12},"Quilted Zip-Top Tote, XS"," Green Mist ",{"v":12.5,"d":"12.50"},"07-70135-13",{"$nulls":12},"Quilted Zip-Top Tote, XS"," Green Mist ",{"v":12.5,"d":"12.50"},"07-70135-13",{"$nulls":12},"Quilted Zip-Top Tote, XS"," Green Mist ",{"v":12.5,"d":"12.50"},"07-70135-13",{"$nulls":12},"Quilted Zip-Top Tote, XS"," Green Mist ",{"v":12.5,"d":"12.50"},"07-70135-13",{"$nulls":12},"Quilted Zip-Top Tote, XS"," Green Mist ",{"v":12.5,"d":"12.50"},"07-70135-13",{"$nulls":12},"Quilted Zip-Top Tote, XS"," Green Mist ",{"v":12.5,"d":"12.50"},"07-70135-13",{"$nulls":12},"Quilted Zip-Top Tote, XS"," Green Mist ",{"v":12.5,"d":"12.50"},"07-70135-13",{"$nulls":12},"Quilted Zip-Top Tote, XS"," Green Mist ",{"v":12.5,"d":"12.50"},"07-70135-13",{"$nulls":12},"Quilted Zip-Top Tote, XS"," Green Mist ",{"v":12.5,"d":"12.50"},"07-70135-13",{"$nulls":12},"Quilted Zip-Top Tote, XS"," Green Mist ",{"v":12.5,"d":"12.50"},"07-70135-13"]
["Cooler Cube","Frost Blue",{"v":25,"d":"$25.00"},757894330743,"20-75060-74",{"$nulls":6},{"$f":"(F134*C134)+(G134*C134)+(H134*C134)+(I134*C134)+(J134*C134)+(K134*C134)","v":{"v":0,"d":"$0.00"}},{"$f":"IF(AND(ISBLANK(F134),ISBLANK(G134),ISBLANK(H134),ISBLANK(I134),ISBLANK(J134),ISBLANK(K134)),1,0)","v":1}]
["Cooler Cube","Cedar Green",{"v":25,"d":"$25.00"},757894330750,"20-75060-55",{"$nulls":6},{"$f":"(F135*C135)+(G135*C135)+(H135*C135)+(I135*C135)+(J135*C135)+(K135*C135)","v":{"v":0,"d":"$0.00"}},{"$f":"IF(AND(ISBLANK(F135),ISBLANK(G135),ISBLANK(H135),ISBLANK(I135),ISBLANK(J135),ISBLANK(K135)),1,0)","v":1}]
["Cooler Cube","Light Sand",{"v":25,"d":"$25.00"},757894330767,"20-75060-73",{"$nulls":6},{"$f":"(F136*C136)+(G136*C136)+(H136*C136)+(I136*C136)+(J136*C136)+(K136*C136)","v":{"v":0,"d":"$0.00"}},{"$f":"IF(AND(ISBLANK(F136),ISBLANK(G136),ISBLANK(H136),ISBLANK(I136),ISBLANK(J136),ISBLANK(K136)),1,0)","v":1}]
["Cooler Cube- New Color Added","Lichen Green",{"v":25,"d":"$25.00"},757894333454,"20-75060-77",{"$nulls":6},{"$f":"(F137*C137)+(G137*C137)+(H137*C137)+(I137*C137)+(J137*C137)+(K137*C137)","v":{"v":0,"d":"$0.00"}},{"$f":"IF(AND(ISBLANK(F137),ISBLANK(G137),ISBLANK(H137),ISBLANK(I137),ISBLANK(J137),ISBLANK(K137)),1,0)","v":1}]
["The Sixer","Frost Blue",{"v":17.5,"d":"$17.50"},757894330804,"20-75090-74",{"$nulls":6},{"$f":"(F138*C138)+(G138*C138)+(H138*C138)+(I138*C138)+(J138*C138)+(K138*C138)","v":{"v":0,"d":"$0.00"}},{"$f":"IF(AND(ISBLANK(F138),ISBLANK(G138),ISBLANK(H138),ISBLANK(I138),ISBLANK(J138),ISBLANK(K138)),1,0)","v":1}]
["The Sixer","Cedar Green",{"v":17.5,"d":"$17.50"},757894330811,"20-75090-55",{"$nulls":6},{"$f":"(F139*C139)+(G139*C139)+(H139*C139)+(I139*C139)+(J139*C139)+(K139*C139)","v":{"v":0,"d":"$0.00"}},{"$f":"IF(AND(ISBLANK(F139),ISBLANK(G139),ISBLANK(H139),ISBLANK(I139),ISBLANK(J139),ISBLANK(K139)),1,0)","v":1}]
["The Sixer","Light Sand",{"v":17.5,"d":"$17.50"},757894330828,"20-75090-73",{"$nulls":6},{"v":0,"d":"$0.00"},{"$f":"IF(AND(ISBLANK(F140),ISBLANK(G140),ISBLANK(H140),ISBLANK(I140),ISBLANK(J140),ISBLANK(K140)),1,0)","v":1}]
["The Sixer- New Color Added","Lichen Green",{"v":17.5,"d":"$17.50"},757894333485,"20-75090-77",{"$nulls":6},{"v":0,"d":"$0.00"},{"$f":"IF(AND(ISBLANK(F141),ISBLANK(G141),ISBLANK(H141),ISBLANK(I141),ISBLANK(J141),ISBLANK(K141)),1,0)","v":1}]
["The TakeOut","Frost Blue",{"v":15,"d":"$15.00"},757894330835,"20-75100-74",{"$nulls":6},{"v":0,"d":"$0.00"},{"$f":"IF(AND(ISBLANK(F142),ISBLANK(G142),ISBLANK(H142),ISBLANK(I142),ISBLANK(J142),ISBLANK(K142)),1,0)","v":1}]
["The TakeOut","Cedar Green",{"v":15,"d":"$15.00"},757894330842,"20-75100-55",{"$nulls":6},{"v":0,"d":"$0.00"},{"$f":"IF(AND(ISBLANK(F143),ISBLANK(G143),ISBLANK(H143),ISBLANK(I143),ISBLANK(J143),ISBLANK(K143)),1,0)","v":1}]
["The TakeOut","Light Sand",{"v":15,"d":"$15.00"},757894330859,"20-75100-73",{"$nulls":6},{"v":0,"d":"$0.00"},{"$f":"IF(AND(ISBLANK(F144),ISBLANK(G144),ISBLANK(H144),ISBLANK(I144),ISBLANK(J144),ISBLANK(K144)),1,0)","v":1}]
["The TakeOut- New Color Added","Lichen Green",{"v":15,"d":"$15.00"},757894333515,"20-75100-77",{"$nulls":6},{"v":0,"d":"$0.00"},{"$f":"IF(AND(ISBLANK(F145),ISBLANK(G145),ISBLANK(H145),ISBLANK(I145),ISBLANK(J145),ISBLANK(K145)),1,0)","v":1}]
["Cooler Tube Sling","Frost Blue",{"v":12.5,"d":"$12.50"},757894330866,"20-75110-74",{"$nulls":6},{"v":0,"d":"$0.00"},{"$f":"IF(AND(ISBLANK(F146),ISBLANK(G146),ISBLANK(H146),ISBLANK(I146),ISBLANK(J146),ISBLANK(K146)),1,0)","v":1}]
["Cooler Tube Sling","Cedar Green",{"v":12.5,"d":"$12.50"},757894330873,"20-75110-55",{"$nulls":6},{"v":0,"d":"$0.00"},{"$f":"IF(AND(ISBLANK(F147),ISBLANK(G147),ISBLANK(H147),ISBLANK(I147),ISBLANK(J147),ISBLANK(K147)),1,0)","v":1}]
["Cooler Tube Sling","Light Sand",{"v":12.5,"d":"$12.50"},757894330880,"20-75110-73",{"$nulls":6},{"v":0,"d":"$0.00"},{"$f":"IF(AND(ISBLANK(F148),ISBLANK(G148),ISBLANK(H148),ISBLANK(I148),ISBLANK(J148),ISBLANK(K148)),1,0)","v":1}]
["Cooler Tube Sling- New Color Added","Lichen Green",{"v":12.5,"d":"$12.50"},757894333546,"20-75110-77",{"$nulls":6},{"v":0,"d":"$0.00"},{"$f":"IF(AND(ISBLANK(F149),ISBLANK(G149),ISBLANK(H149),ISBLANK(I149),ISBLANK(J149),ISBLANK(K149)),1,0)","v":1}]
["Nomad Duffle 80- New","Heritage Black",{"v":58,"d":"$58.00"},757894333300,"24-70065-01",{"$nulls":6},{"v":0,"d":"$0.00"},1]
["Nomad Duffle 80- New","Coyote Brown",{"v":58,"d":"$58.00"},757894333331,"24-70065-60",{"$nulls":6},{"v":0,"d":"$0.00"},1]
["Nomad Duffle 60- New","Heritage Black",{"v":52,"d":"$52.00"},757894333294,"24-70064-01",{"$nulls":6},{"v":0,"d":"$0.00"},1]
["Nomad Duffle 60- New","Coyote Brown",{"v":52,"d":"$52.00"},757894333324,"24-70064-60",{"$nulls":6},{"v":0,"d":"$0.00"},1]
["Nomad Duffle 45- New","Heritage Black",{"v":47,"d":"$47.00"},757894333287,"24-70063-01",{"$nulls":6},{"v":0,"d":"$0.00"},1]
["Nomad Duffle 45- New","Coyote Brown",{"v":47,"d":"$47.00"},757894333317,"24-70063-60",{"$nulls":6},{"v":0,"d":"$0.00"},1]
["Haulin' Padded Shoulder Strap","Ice Grey",{"v":7.5,"d":"$7.50"},757894328092,"14-75270-59",{"$nulls":6},{"v":0,"d":"$0.00"},{"$f":"IF(AND(ISBLANK(F156),ISBLANK(G156),ISBLANK(H156),ISBLANK(I156),ISBLANK(J156),ISBLANK(K156)),1,0)","v":1}]
["Essentials Stash, S ","Glacier Grey",{"v":13.75,"d":"$13.75"},757894328047,"17-70012-07",{"$nulls":6},{"v":0,"d":"$0.00"},{"$f":"IF(AND(ISBLANK(F157),ISBLANK(G157),ISBLANK(H157),ISBLANK(I157),ISBLANK(J157),ISBLANK(K157)),1,0)","v":1}]
["Essentials Stash, M ","Glacier Grey",{"v":15.5,"d":"$15.50"},757894327958,"17-70011-07",{"$nulls":6},{"v":0,"d":"$0.00"},{"$f":"IF(AND(ISBLANK(F158),ISBLANK(G158),ISBLANK(H158),ISBLANK(I158),ISBLANK(J158),ISBLANK(K158)),1,0)","v":1}]
["COOLERS/ACCESSORIES SUBTOTAL",{"$nulls":4},{"$f":"SUMPRODUCT($C$134:$C$158,F134:F158)","v":{"v":0,"d":"$0.00"}},{"v":0,"d":"$0.00"},{"v":0,"d":"$0.00"},{"v":0,"d":"$0.00"},{"v":0,"d":"$0.00"},{"v":0,"d":"$0.00"},{"$f":"SUM(L134:L158)","v":{"v":0,"d":"$0.00"}},{"$f":"IF(AND(ISBLANK(F159),ISBLANK(G159),ISBLANK(H159),ISBLANK(I159),ISBLANK(J159),ISBLANK(K159)),1,0)","v":0}]
["TREKKING POLES",{"$nulls":11},0]
["Andesite- Updated","Carbon ",{"v":50,"d":"$50.00"},757894333560,"24-9100-01",{"$nulls":6},{"$f":"(F161*C161)+(G161*C161)+(H161*C161)+(I161*C161)+(J161*C161)+(K161*C161)","v":{"v":0,"d":"$0.00"}},{"$f":"IF(AND(ISBLANK(F161),ISBLANK(G161),ISBLANK(H161),ISBLANK(I161),ISBLANK(J161),ISBLANK(K161)),1,0)","v":1}]
["Halite 7075- Updated","Bisbee Blue",{"v":40,"d":"$40.00"},757894333577,"24-9732-30",{"$nulls":6},{"v":0,"d":"$0.00"},1]
["Halite WSD 7075- Updated","Celestial Blue",{"v":40,"d":"$40.00"},757894333584,"24-9732-26",{"$nulls":6},{"v":0,"d":"$0.00"},1]
["Carbonlite Pro- Updated","Carbon  ",{"v":40,"d":"$40.00"},757894333591,"24-9622-01",{"$nulls":6},{"v":0,"d":"$0.00"},1]
["Tellurite 7075 OLS- Updated","Spring Green",{"v":32.5,"d":"$32.50"},757894333676,"24-9752-13",{"$nulls":6},{"v":0,"d":"$0.00"},1]
["Tellurite WSD 7075- Updated","Chili Red",{"v":32.5,"d":"$32.50"},757894333683,"24-9752-03",{"$nulls":6},{"v":0,"d":"$0.00"},1]
["Pyrite 7075- Updated","Amber Orange",{"v":30,"d":"$30.00"},757894333621,"24-9612-67",{"$nulls":6},{"v":0,"d":"$0.00"},1]
["Rhyolite 6061- Updated","Emerald Green",{"v":20,"d":"$20.00"},757894333614,"24-9602-10",{"$nulls":6},{"v":0,"d":"$0.00"},1]
["Trekker FX Lite- Updated","Carbon",{"v":20,"d":"$20.00"},757894333607,"24-9701-01",{"$nulls":6},{"v":0,"d":"$0.00"},1]
["Globetrotter- Updated","Graphite ",{"v":19,"d":"$19.00"},757894333669,"24-9741-08",{"$nulls":6},{"v":0,"d":"$0.00"},1]
["Dolomite 7075 OLS- Updated","Ice Blue",{"v":15,"d":"$15.00"},757894333652,"24-9711-30",{"$nulls":6},{"v":0,"d":"$0.00"},1]
["Pinnacle Single- Updated","Sand",{"v":10,"d":"$10.00"},757894333638,"24-9651-14",{"$nulls":6},{"v":0,"d":"$0.00"},1]
["Pinnacle Single- Updated","Glacier Blue",{"v":10,"d":"$10.00"},757894333645,"24-9651-39",{"$nulls":6},{"v":0,"d":"$0.00"},1]
["Hiking Basket-Threaded (Pair)",null,{"v":3,"d":"$3.00"},"757894333690","24-9480-01",{"$nulls":6},{"v":0,"d":"$0.00"},1]
["Hiking Basket-Threaded Bulk (20 PCs - no Pkg)",null,{"v":20,"d":"$20.00"},"757894333706","24-9489-01",{"$nulls":6},{"v":0,"d":"$0.00"},1]
["Snow Basket-Threaded (Pair)",null,{"v":3,"d":"$3.00"},"757894333713","24-9470-01",{"$nulls":6},{"v":0,"d":"$0.00"},1]
["Snow Basket-Threaded Bulk (20 PCs - no Pkg)",null,{"v":20,"d":"$20.00"},"757894333720","24-9479-01",{"$nulls":6},{"$f":"(F177*C177)+(G177*C177)+(H177*C177)+(I177*C177)+(J177*C177)+(K177*C177)","v":{"v":0,"d":"$0.00"}},{"$f":"IF(AND(ISBLANK(F177),ISBLANK(G177),ISBLANK(H177),ISBLANK(I177),ISBLANK(J177),ISBLANK(K177)),1,0)","v":1}]
["SlingBack Chair-Anvil Grey",null,{"v":12.5,"d":"$12.50"},757894326210,"17-9490-65",{"$nulls":6},{"v":0,"d":"$0.00"},1]
["Snow Baskets-Lock Pin (Pair)",null,{"v":3,"d":"$3.00"},757894325299,"15-9470-01",{"$nulls":6},{"v":0,"d":"$0.00"},1]
["Hiking Baskets-Lock Pin (Pair)",null,{"v":3,"d":"$3.00"},757894325893,"17-9480-01",{"$nulls":6},{"v":0,"d":"$0.00"},1]
["Trekking Pole Nordic Boot Tips (Pair)",null,{"v":4,"d":"$4.00"},757894325909,"17-9501-01",{"$nulls":6},{"v":0,"d":"$0.00"},1]
["Trekking Pole Rubber Boot Tips (Pair)",null,{"v":3,"d":"$3.00"},757894321789,"12-9500-01",{"$nulls":6},{"v":0,"d":"$0.00"},1]
["Hiking Baskets-Lock Pin Bulk (20pcs - no Pkg)",null,{"v":20,"d":"$20.00"},757894326333,"17-9489-01",{"$nulls":6},{"$f":"(F183*C183)+(G183*C183)+(H183*C183)+(I183*C183)+(J183*C183)+(K183*C183)","v":{"v":0,"d":"$0.00"}},{"$f":"IF(AND(ISBLANK(F183),ISBLANK(G183),ISBLANK(H183),ISBLANK(I183),ISBLANK(J183),ISBLANK(K183)),1,0)","v":1}]
["Snow Baskets-Lock Pin Bulk (20pcs - no Pkg)",null,{"v":20,"d":"$20.00"},757894326340,"17-9479-01",{"$nulls":6},{"v":0,"d":"$0.00"},1]
["Rubber Boot Tips Bulk (20pcs - no Pkg)",null,{"v":20,"d":"$20.00"},757894326357,"17-9509-01",{"$nulls":6},{"v":0,"d":"$0.00"},1]
["TREKKING POLES SUBTOTAL",null,null,"  "," ",{"$f":"SUMPRODUCT($C$161:$C$185,F161:F185)","v":{"v":0,"d":"$0.00"}},{"v":0,"d":"$0.00"},{"v":0,"d":"$0.00"},{"v":0,"d":"$0.00"},{"v":0,"d":"$0.00"},{"v":0,"d":"$0.00"},{"$f":"SUM(L161:L185)","v":{"v":0,"d":"$0.00"}},0]
["DOG",{"$nulls":11},0]
["K-9 Pack, LG","Lava Red",{"v":41.25,"d":"$41.25"},757894328870,"19-80035-02",{"$nulls":6},{"$f":"(F188*C188)+(G188*C188)+(H188*C188)+(I188*C188)+(J188*C188)+(K188*C188)","v":{"v":0,"d":"$0.00"}},{"$f":"IF(AND(ISBLANK(F188),ISBLANK(G188),ISBLANK(H188),ISBLANK(I188),ISBLANK(J188),ISBLANK(K188)),1,0)","v":1}]
["K-9 Pack, MD","Lava Red",{"v":41.25,"d":"$41.25"},757894328894,"19-80055-02",{"$nulls":6},{"$f":"(F189*C189)+(G189*C189)+(H189*C189)+(I189*C189)+(J189*C189)+(K189*C189)","v":{"v":0,"d":"$0.00"}},{"$f":"IF(AND(ISBLANK(F189),ISBLANK(G189),ISBLANK(H189),ISBLANK(I189),ISBLANK(J189),ISBLANK(K189)),1,0)","v":1}]
["K-9 Pack, SM","Lava Red",{"v":41.25,"d":"$41.25"},757894328887,"19-80045-02",{"$nulls":6},{"v":0,"d":"$0.00"},1]
["K-9 Pack, LG","Caribe Blue",{"v":41.25,"d":"$41.25"},757894329068,"19-80055-50",{"$nulls":6},{"$f":"(F191*C191)+(G191*C191)+(H191*C191)+(I191*C191)+(J191*C191)+(K191*C191)","v":{"v":0,"d":"$0.00"}},{"$f":"IF(AND(ISBLANK(F191),ISBLANK(G191),ISBLANK(H191),ISBLANK(I191),ISBLANK(J191),ISBLANK(K191)),1,0)","v":1}]
["K-9 Pack, MD","Caribe Blue",{"v":41.25,"d":"$41.25"},757894329051,"19-80045-50",{"$nulls":6},{"v":0,"d":"$0.00"},1]
["K-9 Pack, SM","Caribe Blue",{"v":41.25,"d":"$41.25"},757894329044,"19-80035-50",{"$nulls":6},{"$f":"(F193*C193)+(G193*C193)+(H193*C193)+(I193*C193)+(J193*C193)+(K193*C193)","v":{"v":0,"d":"$0.00"}},{"$f":"IF(AND(ISBLANK(F193),ISBLANK(G193),ISBLANK(H193),ISBLANK(I193),ISBLANK(J193),ISBLANK(K193)),1,0)","v":1}]
["K-9 Cube","Ice Grey",{"v":55.5,"d":"$55.50"},757894329075,"19-80026-59",{"$nulls":6},{"v":0,"d":"$0.00"},1]
["K-9 Bed","Heritage Red",{"v":24.5,"d":"$24.50"},757894329037,"19-80110-02",{"$nulls":6},{"v":0,"d":"$0.00"},1]
["K-9 Backbowl","Glacier Grey",{"v":7.75,"d":"$7.75"},757894329419,"19-80022-07",{"$nulls":6},{"v":0,"d":"$0.00"},1]
["DOG SUBTOTAL",{"$nulls":4},{"$f":"SUMPRODUCT($C$188:$C196,F188:F196)","v":{"v":0,"d":"$0.00"}},{"$f":"SUMPRODUCT($C$188:$C196,G188:G196)","v":{"v":0,"d":"$0.00"}},{"$f":"SUMPRODUCT($C$188:$C196,H188:H196)","v":{"v":0,"d":"$0.00"}},{"$f":"SUMPRODUCT($C$188:$C196,I188:I196)","v":{"v":0,"d":"$0.00"}},{"$f":"SUMPRODUCT($C$188:$C196,J188:J196)","v":{"v":0,"d":"$0.00"}},{"$f":"SUMPRODUCT($C$188:$C196,K188:K196)","v":{"v":0,"d":"$0.00"}},{"$f":"SUM(L188:L196)","v":{"v":0,"d":"$0.00"}},0,{"$nulls":18},"Quilted Zip-Top Tote, XS"," Black  ",{"v":12.5,"d":"12.50"},"07-70135-01",{"$nulls":12},"Quilted Zip-Top Tote, XS"," Black  ",{"v":12.5,"d":"12.50"},"07-70135-01",{"$nulls":12},"Quilted Zip-Top Tote, XS"," Black  ",{"v":12.5,"d":"12.50"},"07-70135-01",{"$nulls":12},"Quilted Zip-Top Tote, XS"," Black  ",{"v":12.5,"d":"12.50"},"07-70135-01",{"$nulls":12},"Quilted Zip-Top Tote, XS"," Black  ",{"v":12.5,"d":"12.50"},"07-70135-01",{"$nulls":12},"Quilted Zip-Top Tote, XS"," Black  ",{"v":12.5,"d":"12.50"},"07-70135-01",{"$nulls":12},"Quilted Zip-Top Tote, XS"," Black  ",{"v":12.5,"d":"12.50"},"07-70135-01",{"$nulls":12},"Quilted Zip-Top Tote, XS"," Black  ",{"v":12.5,"d":"12.50"},"07-70135-01",{"$nulls":12},"Quilted Zip-Top Tote, XS"," Black  ",{"v":12.5,"d":"12.50"},"07-70135-01",{"$nulls":12},"Quilted Zip-Top Tote, XS"," Black  ",{"v":12.5,"d":"12.50"},"07-70135-01",{"$nulls":12},"Quilted Zip-Top Tote, XS"," Black  ",{"v":12.5,"d":"12.50"},"07-70135-01",{"$nulls":12},"Quilted Zip-Top Tote, XS"," Black  ",{"v":12.5,"d":"12.50"},"07-70135-01",{"$nulls":12},"Quilted Zip-Top Tote, XS"," Black  ",{"v":12.5,"d":"12.50"},"07-70135-01",{"$nulls":12},"Quilted Zip-Top Tote, XS"," Black  ",{"v":12.5,"d":"12.50"},"07-70135-01"]
["TENTS",{"$nulls":11},0]
["Mountain Shelter LT, 2 Person 3 Season Tarp","Pinon Green",{"v":77,"d":"$77.00"},757894326029,"13-2019-38",{"$nulls":6},{"$f":"(F199*C199)+(G199*C199)+(H199*C199)+(I199*C199)+(J199*C199)+(K199*C199)","v":{"v":0,"d":"$0.00"}},{"$f":"IF(AND(ISBLANK(F199),ISBLANK(G199),ISBLANK(H199),ISBLANK(I199),ISBLANK(J199),ISBLANK(K199)),1,0)","v":1}]
["Mountain Shade Tarp 12","Burnt Ochre",{"v":38.25,"d":"$38.25"},757894325961,"17-2050-06",{"$nulls":6},{"$f":"(F200*C200)+(G200*C200)+(H200*C200)+(I200*C200)+(J200*C200)+(K200*C200)","v":{"v":0,"d":"$0.00"}},{"$f":"IF(AND(ISBLANK(F200),ISBLANK(G200),ISBLANK(H200),ISBLANK(I200),ISBLANK(J200),ISBLANK(K200)),1,0)","v":1}]
["Morrison EVO 2 w/FP, 2 Person 3 Season Tent","Cactus Green",{"v":126,"d":"$126.00"},757894325831,"17-2032-29",{"$nulls":6},{"$f":"(F201*C201)+(G201*C201)+(H201*C201)+(I201*C201)+(J201*C201)+(K201*C201)","v":{"v":0,"d":"$0.00"}},{"$f":"IF(AND(ISBLANK(F201),ISBLANK(G201),ISBLANK(H201),ISBLANK(I201),ISBLANK(J201),ISBLANK(K201)),1,0)","v":1}]
["Morrison EVO 4 w/FP, 4 Person 3 Season Tent","Cactus Green",{"v":148,"d":"$148.00"},757894325848,"17-2034-29",{"$nulls":6},{"$f":"(F202*C202)+(G202*C202)+(H202*C202)+(I202*C202)+(J202*C202)+(K202*C202)","v":{"v":0,"d":"$0.00"}},{"$f":"IF(AND(ISBLANK(F202),ISBLANK(G202),ISBLANK(H202),ISBLANK(I202),ISBLANK(J202),ISBLANK(K202)),1,0)","v":1}]
["Bear Creek 2 w/FP, 2 Person 3 Season Tent","Olympic Blue",{"v":82,"d":"$82.00"},757894325855,"17-2042-39",{"$nulls":6},{"$f":"(F203*C203)+(G203*C203)+(H203*C203)+(I203*C203)+(J203*C203)+(K203*C203)","v":{"v":0,"d":"$0.00"}},{"$f":"IF(AND(ISBLANK(F203),ISBLANK(G203),ISBLANK(H203),ISBLANK(I203),ISBLANK(J203),ISBLANK(K203)),1,0)","v":1},null," "]
["Bear Creek 4 w/FP, 4 Person 3 Season Tent","Olympic Blue",{"v":110,"d":"$110.00"},757894325879,"17-2044-39",{"$nulls":6},{"v":0,"d":"$0.00"},1]
["Conifer, 5+ Person 3 Season Tent","Olympic Blue",{"v":247,"d":"$247.00"},757894325886,"12-2014-39",{"$nulls":6},{"v":0,"d":"$0.00"},1]
["Tent Field Repair Kit",null,{"v":6.5,"d":"$6.50"},757894325916,"17-3001-01",{"$nulls":6},{"v":0,"d":"$0.00"},1]
["Replacement Guylines (Set of 4)",null,{"v":4,"d":"$4.00"},757894325954,"17-3002-43",{"$nulls":6},{"v":0,"d":"$0.00"},1]
["Steel Tarp Pole (Set of 2)",null,{"v":20,"d":"$20.00"},757894326227,"17-3003-08",{"$nulls":6},{"v":0,"d":"$0.00"},1]
["Tent Stakes (Set of 8)",null,{"v":5,"d":"$5.00"},757894321260,"12-2015-08",{"$nulls":6},{"v":0,"d":"$0.00"},1]
["Tent Footprint - 2 Person",null,{"v":15,"d":"$15.00"},757894321277,"12-2016-08",{"$nulls":6},{"v":0,"d":"$0.00"},1]
["Tent Footprint - 4 Person",null,{"v":20,"d":"$20.00"},757894321284,"12-2017-08",{"$nulls":6},{"v":0,"d":"$0.00"},1]
["Tent Footprint - 5 Person",null,{"v":25,"d":"$25.00"},757894321291,"12-2018-08",{"$nulls":6},{"v":0,"d":"$0.00"},1]
["TENTS SUBTOTAL",{"$nulls":4},{"$f":"SUMPRODUCT($C$199:$C$212,F199:F212)","v":{"v":0,"d":"$0.00"}},{"v":0,"d":"$0.00"},{"v":0,"d":"$0.00"},{"v":0,"d":"$0.00"},{"v":0,"d":"$0.00"},{"v":0,"d":"$0.00"},{"$f":"SUM(L199:L212)","v":{"v":0,"d":"$0.00"}},0]
[{"$nulls":12},0]
["GRAND TOTAL $","GRAND TOTAL $",{"$nulls":3},{"$f":"SUM(F85+F126+F132+F159+F186+F197+F213)","v":{"v":0,"d":"$0.00"}},{"v":0,"d":"$0.00"},{"v":0,"d":"$0.00"},{"v":0,"d":"$0.00"},{"v":0,"d":"$0.00"},{"v":0,"d":"$0.00"},{"v":0,"d":"$0.00"},{"$f":"IF(AND(ISBLANK(F215),ISBLANK(G215),ISBLANK(H215),ISBLANK(I215),ISBLANK(J215),ISBLANK(K215)),1,0)","v":0}]
["Total # of Items",{"$nulls":4},{"$f":"SUM(F8:F84,F87:F125,F128:F131,F134:F158,F161:F185,F188:F196,F199:F212)","v":0},0,0,0,0,0,{"$f":"SUM(F216:K216)","v":0},0]

{"sheet":"Zerk Program","index":3,"n_rows":17,"n_cols":13,"rows_kept":17,"merged":[[0,5,0,11],[2,1,2,2]]}
[{"$nulls":5},"Order Summary",{"$nulls":6},0]
[{"$nulls":5},{"$f":"F6&\" SHIP\"","v":"January SHIP"},{"$f":"G6&\" SHIP\"","v":"February SHIP"},"March SHIP","April SHIP","May SHIP","June SHIP","TOTAL",0]
[{"$nulls":3},"$ Totals",null,{"$f":"F16","v":{"v":0,"d":"$0.00"}},{"v":0,"d":"$0.00"},{"v":0,"d":"$0.00"},{"v":0,"d":"$0.00"},{"v":0,"d":"$0.00"},{"v":0,"d":"$0.00"},{"v":0,"d":"$0.00"},0]
[{"$nulls":12},0]
[{"$nulls":12},0]
["ITEM DESCRIPTION","COLOR","WHOLESALE ","UPC","ITEM NUMBER","January","February","March","April","May","June","WHOLESALE",0]
[{"$nulls":12},0]
["Zerk Fanny","Black",{"v":36,"d":"$36.00"},757894333188,"24-50641-01",{"$nulls":6},{"$f":"(F8*C8)+(G8*C8)+(H8*C8)+(I8*C8)+(J8*C8)+(K8*C8)","v":{"v":0,"d":"$0.00"}},{"$f":"IF(AND(ISBLANK(F8),ISBLANK(G8),ISBLANK(H8),ISBLANK(I8),ISBLANK(J8),ISBLANK(K8)),1,0)","v":1}]
["Zerk Fanny","Cyan Blue",{"v":36,"d":"$36.00"},757894333195,"24-50641-03",{"$nulls":6},{"v":0,"d":"$0.00"},1]
["Zerk 40 ","Black",{"v":122,"d":"$122.00"},757894333140,"24-50441-01",{"$nulls":6},{"$f":"(F10*C10)+(G10*C10)+(H10*C10)+(I10*C10)+(J10*C10)+(K10*C10)","v":{"v":0,"d":"$0.00"}},{"$f":"IF(AND(ISBLANK(F10),ISBLANK(G10),ISBLANK(H10),ISBLANK(I10),ISBLANK(J10),ISBLANK(K10)),1,0)","v":1}]
["Zerk 40 ","Cyan Blue",{"v":122,"d":"$122.00"},757894333157,"24-50441-03",{"$nulls":6},{"v":0,"d":"$0.00"},1]
["Zerk 25","Black",{"v":110,"d":"$110.00"},757894333164,"24-50541-01",{"$nulls":6},{"v":0,"d":"$0.00"},1]
["Zerk 25","Cyan Blue",{"v":110,"d":"$110.00"},757894333171,"24-50541-03",{"$nulls":6},{"v":0,"d":"$0.00"},1]
["Andesite","Carbon ",{"v":50,"d":"$50.00"},757894333560,"24-9100-01",{"$nulls":6},{"$f":"(F14*C14)+(G14*C14)+(H14*C14)+(I14*C14)+(J14*C14)+(K14*C14)","v":{"v":0,"d":"$0.00"}},{"$f":"IF(AND(ISBLANK(F14),ISBLANK(G14),ISBLANK(H14),ISBLANK(I14),ISBLANK(J14),ISBLANK(K14)),1,0)","v":1}]
[{"$nulls":12},0]
["GRAND TOTAL $","GRAND TOTAL $",{"$nulls":3},{"$f":"SUMPRODUCT($C$8:$C$14,F8:F14)","v":{"v":0,"d":"$0.00"}},{"v":0,"d":"$0.00"},{"v":0,"d":"$0.00"},{"v":0,"d":"$0.00"},{"v":0,"d":"$0.00"},{"v":0,"d":"$0.00"},{"$f":"SUM(L8:L14)","v":{"v":0,"d":"$0.00"}},{"$f":"IF(AND(ISBLANK(F16),ISBLANK(G16),ISBLANK(H16),ISBLANK(I16),ISBLANK(J16),ISBLANK(K16)),1,0)","v":0}]
["Total # of Items",{"$nulls":4},{"$f":"SUM(F8:F14)","v":0},0,0,0,0,0,{"$f":"SUM(F17:K17)","v":0},0]

{"sheet":"Timber Program","index":4,"n_rows":22,"n_cols":13,"rows_kept":22,"merged":[[0,5,0,11],[2,1,2,2]]}
[{"$nulls":5},"Order Summary",{"$nulls":6},0]
[{"$nulls":5},{"$f":"F6&\" SHIP\"","v":"January SHIP"},{"$f":"G6&\" SHIP\"","v":"February SHIP"},"March SHIP","April SHIP","May SHIP","June SHIP","TOTAL",0]
[{"$nulls":3},"$ Totals",null,{"$f":"F21","v":{"v":0,"d":"$0.00"}},{"v":0,"d":"$0.00"},{"v":0,"d":"$0.00"},{"v":0,"d":"$0.00"},{"v":0,"d":"$0.00"},{"v":0,"d":"$0.00"},{"v":0,"d":"$0.00"},0]
[{"$nulls":12},0]
[{"$nulls":12},0]
["ITEM DESCRIPTION","COLOR","WHOLESALE ","UPC","ITEM NUMBER","January","February","March","April","May","June","WHOLESALE",0]
["Timber","Black",{"v":33,"d":"$33.00"},757894333041,"23-10800-01",{"$nulls":6},{"$f":"(F7*C7)+(G7*C7)+(H7*C7)+(I7*C7)+(J7*C7)+(K7*C7)","v":{"v":0,"d":"$0.00"}},{"$f":"IF(AND(ISBLANK(F7),ISBLANK(G7),ISBLANK(H7),ISBLANK(I7),ISBLANK(J7),ISBLANK(K7)),1,0)","v":1}]
["Timber","Coyote Brown",{"v":33,"d":"$33.00"},757894333058,"23-10800-60",{"$nulls":6},{"$f":"(F8*C8)+(G8*C8)+(H8*C8)+(I8*C8)+(J8*C8)+(K8*C8)","v":{"v":0,"d":"$0.00"}},1]
["Sidekick, S","Heritage Black",{"v":15.5,"d":"$15.50"},757894333409,"24-10265-01",{"$nulls":6},{"$f":"(F9*C9)+(G9*C9)+(H9*C9)+(I9*C9)+(J9*C9)+(K9*C9)","v":{"v":0,"d":"$0.00"}},1]
["Sidekick, M","Heritage Black",{"v":16.5,"d":"$16.50"},757894333416,"24-10270-01",{"$nulls":6},{"$f":"(F10*C10)+(G10*C10)+(H10*C10)+(I10*C10)+(J10*C10)+(K10*C10)","v":{"v":0,"d":"$0.00"}},1]
["Sidekick, S","Coyote Brown",{"v":15.5,"d":"$15.50"},757894333423,"24-10265-60",{"$nulls":6},{"$f":"(F11*C11)+(G11*C11)+(H11*C11)+(I11*C11)+(J11*C11)+(K11*C11)","v":{"v":0,"d":"$0.00"}},1]
["Sidekick, M","Coyote Brown",{"v":16.5,"d":"$16.50"},757894333430,"24-10270-60",{"$nulls":6},{"$f":"(F12*C12)+(G12*C12)+(H12*C12)+(I12*C12)+(J12*C12)+(K12*C12)","v":{"v":0,"d":"$0.00"}},1]
["Timber Sling","Heritage Black",{"v":49.5,"d":"$49.50"},757894333263,"24-70800-01",{"$nulls":6},{"$f":"(F13*C13)+(G13*C13)+(H13*C13)+(I13*C13)+(J13*C13)+(K13*C13)","v":{"v":0,"d":"$0.00"}},1]
["Timber Sling","Coyote Brown",{"v":49.5,"d":"$49.50"},757894333270,"24-70800-60",{"$nulls":6},{"v":0,"d":"$0.00"},1]
["Nomad Duffle 80","Heritage Black",{"v":58,"d":"$58.00"},757894333300,"24-70065-01",{"$nulls":6},{"v":0,"d":"$0.00"},1]
["Nomad Duffle 80","Coyote Brown",{"v":58,"d":"$58.00"},757894333331,"24-70065-60",{"$nulls":6},{"v":0,"d":"$0.00"},1]
["Nomad Duffle 60","Heritage Black",{"v":52,"d":"$52.00"},757894333294,"24-70064-01",{"$nulls":6},{"v":0,"d":"$0.00"},1]
["Nomad Duffle 60","Coyote Brown",{"v":52,"d":"$52.00"},757894333324,"24-70064-60",{"$nulls":6},{"v":0,"d":"$0.00"},1]
["Nomad Duffle 45","Heritage Black",{"v":47,"d":"$47.00"},757894333287,"24-70063-01",{"$nulls":6},{"v":0,"d":"$0.00"},1]
["Nomad Duffle 45","Coyote Brown",{"v":47,"d":"$47.00"},757894333317,"24-70063-60",{"$nulls":6},{"v":0,"d":"$0.00"},1]
[" SUBTOTAL",{"$nulls":4},{"$f":"SUMPRODUCT($C$7:$C$20,F7:F20)","v":{"v":0,"d":"$0.00"}},{"v":0,"d":"$0.00"},{"v":0,"d":"$0.00"},{"v":0,"d":"$0.00"},{"v":0,"d":"$0.00"},{"v":0,"d":"$0.00"},{"$f":"SUM(L7:L20)","v":{"v":0,"d":"$0.00"}},{"$f":"IF(AND(ISBLANK(F21),ISBLANK(G21),ISBLANK(H21),ISBLANK(I21),ISBLANK(J21),ISBLANK(K21)),1,0)","v":0}]
["Total # of Items",{"$nulls":4},{"$f":"SUM(F7:F20)","v":0},0,0,0,0,0,{"$f":"SUM(F22:K22)","v":0},0]